BEGIN:VCALENDAR
VERSION:2.0
PRODID:-//Kulturraum Bürgerverein Horn-Lehe - ECPv6.15.17.1//NONSGML v1.0//EN
CALSCALE:GREGORIAN
METHOD:PUBLISH
X-WR-CALNAME:Kulturraum Bürgerverein Horn-Lehe
X-ORIGINAL-URL:https://kulturraum.bv-horn-lehe.de
X-WR-CALDESC:Veranstaltungen für Kulturraum Bürgerverein Horn-Lehe
REFRESH-INTERVAL;VALUE=DURATION:PT1H
X-Robots-Tag:noindex
X-PUBLISHED-TTL:PT1H
BEGIN:VTIMEZONE
TZID:Europe/Berlin
BEGIN:DAYLIGHT
TZOFFSETFROM:+0100
TZOFFSETTO:+0200
TZNAME:CEST
DTSTART:20250330T010000
END:DAYLIGHT
BEGIN:STANDARD
TZOFFSETFROM:+0200
TZOFFSETTO:+0100
TZNAME:CET
DTSTART:20251026T010000
END:STANDARD
BEGIN:DAYLIGHT
TZOFFSETFROM:+0100
TZOFFSETTO:+0200
TZNAME:CEST
DTSTART:20260329T010000
END:DAYLIGHT
BEGIN:STANDARD
TZOFFSETFROM:+0200
TZOFFSETTO:+0100
TZNAME:CET
DTSTART:20261025T010000
END:STANDARD
BEGIN:DAYLIGHT
TZOFFSETFROM:+0100
TZOFFSETTO:+0200
TZNAME:CEST
DTSTART:20270328T010000
END:DAYLIGHT
BEGIN:STANDARD
TZOFFSETFROM:+0200
TZOFFSETTO:+0100
TZNAME:CET
DTSTART:20271031T010000
END:STANDARD
END:VTIMEZONE
BEGIN:VEVENT
DTSTART;TZID=Europe/Berlin:20260417T180000
DTEND;TZID=Europe/Berlin:20260417T200000
DTSTAMP:20260424T151426
CREATED:20260408T080836Z
LAST-MODIFIED:20260408T080850Z
UID:2451-1776448800-1776456000@kulturraum.bv-horn-lehe.de
SUMMARY:Mitgliederversammlung des Bürgerverein Horn-Lehe
DESCRIPTION:Zu unserer Mitgliederversammlung laden wir Sie auch in diesem Jahr wieder ganz herzlich ein! Und wenn Sie Lust haben\, bleiben Sie anschließend noch zum gemütlichen Beisammensein. Wir freuen uns auf Sie! \n\n\n\n\n\n\n\nTagesordnung \n\nBegrüßung/ Feststellung der Beschlussfähigkeit\nBestimmung der Protokollführung\nGedenken an die Verstorbenen Mitglieder\nEhrung langjähriger Mitglieder/innen\nBerichte zum vergangenen Jahr 2025a) Jahresbericht des Vorstandes b) Kassenbericht\nc) Bericht der Kassenprüfer\nEntlastung des Vorstandes\nWahlena) Wahl des gesamten Vorstandes\nAussicht auf das Jahr 2026a) Veranstaltungen und Ereignisse b) Haushaltsvoranschlag\nAnträge\nVerschiedenes\n\nAnschließend gemütliches Beisammensein \nAlle Mitglieder sind berechtigt\, Anträge zur Mitgliederversammlung zu stellen. Diese müssen satzungsgemäß spätestens 3 Tage vor der Versammlung\, also bis zum 04.04.2026\, schriftlich beim Vorstand eingereicht werden.
URL:https://kulturraum.bv-horn-lehe.de/event/mitgliederversammlung-des-buergerverein-horn-lehe/
LOCATION:Johanniterhaus\, Seifert Str. 95\, Bremen\, 28359
END:VEVENT
END:VCALENDAR