BEGIN:VCALENDAR
VERSION:2.0
PRODID:-//Kulturraum Bürgerverein Horn-Lehe - ECPv6.15.17.1//NONSGML v1.0//EN
CALSCALE:GREGORIAN
METHOD:PUBLISH
X-WR-CALNAME:Kulturraum Bürgerverein Horn-Lehe
X-ORIGINAL-URL:https://kulturraum.bv-horn-lehe.de
X-WR-CALDESC:Veranstaltungen für Kulturraum Bürgerverein Horn-Lehe
REFRESH-INTERVAL;VALUE=DURATION:PT1H
X-Robots-Tag:noindex
X-PUBLISHED-TTL:PT1H
BEGIN:VTIMEZONE
TZID:Europe/Berlin
BEGIN:DAYLIGHT
TZOFFSETFROM:+0100
TZOFFSETTO:+0200
TZNAME:CEST
DTSTART:20250330T010000
END:DAYLIGHT
BEGIN:STANDARD
TZOFFSETFROM:+0200
TZOFFSETTO:+0100
TZNAME:CET
DTSTART:20251026T010000
END:STANDARD
BEGIN:DAYLIGHT
TZOFFSETFROM:+0100
TZOFFSETTO:+0200
TZNAME:CEST
DTSTART:20260329T010000
END:DAYLIGHT
BEGIN:STANDARD
TZOFFSETFROM:+0200
TZOFFSETTO:+0100
TZNAME:CET
DTSTART:20261025T010000
END:STANDARD
BEGIN:DAYLIGHT
TZOFFSETFROM:+0100
TZOFFSETTO:+0200
TZNAME:CEST
DTSTART:20270328T010000
END:DAYLIGHT
BEGIN:STANDARD
TZOFFSETFROM:+0200
TZOFFSETTO:+0100
TZNAME:CET
DTSTART:20271031T010000
END:STANDARD
END:VTIMEZONE
BEGIN:VEVENT
DTSTART;TZID=Europe/Berlin:20260509T153000
DTEND;TZID=Europe/Berlin:20260509T173000
DTSTAMP:20260424T063254
CREATED:20260330T071234Z
LAST-MODIFIED:20260330T071316Z
UID:2438-1778340600-1778347800@kulturraum.bv-horn-lehe.de
SUMMARY:„Knipsen oder Gestalten?“ Vierteiliger Fotokurs im Mai/Juni
DESCRIPTION:An vier Samstagen\, 09.\, 16.\, 30. Mai und am 06. Juni\, jeweils von 15:30 bis 17:30 Uhr\, bietet Michael Olaf Röstel die Möglichkeit\, sich in einer Kleingruppe im Fotografieren auszuprobieren\, Neues zu lernen oder Wissen aufzufrischen. Die Veranstaltung des Arbeitskreises Kulturraum des Bürgervereins Horn-Lehe findet in der Berckstraße 10 (Kita/früheres Ortsamt)\, im 1. Stock\, statt und kostet 20 Euro. \nSind deine Aufnahmen ein Zufallsprodukt durch „draufhalten und ausgelöst“? Oder hattest du schon das Ergebnis vorher im Kopf? Hinter der Kamera wird das Bild entworfen und der Fotoapparat ist dein Werkzeug zur Umsetzung – gleich ob Handy oder Profi-Kamera. Einige Kenntnisse über das magische Dreieck (Blende\, Zeit\, ISO)\, Blickwinkel\, Farbwirkung\, Lichtverhältnisse und Bildaufbau sind da schon hilfreich. Das gepaart mit Ausprobieren\, wieder und wieder\, bringen dich voran im Gestalten deiner Fotografien. Selbst ein Michelangelo war mal Lehrling. \nWer interessiert ist am „Mehr“ als Knipsen oder seine Kenntnisse einfach nur auffrischen will und mit anderen Menschen zusammen lernen und ausprobierenmöchte\, sollte sich schnell für einen Platz in einer Kleingruppe von max. acht Personen anmelden. Gebraucht wird ein Fotoapparat (digital oder analog; das Handy allein reicht nicht). \nGeleitet wird der Kurs von Michael Olaf Röstel. Er ist Fotografie-Begeisterter\, aber kein Profi; als ehrenamtlicher „Hausfotograf“ ist er in der Kulturkirche St.Stephaniengagiert und seit langem Mitglied in der Kulturraum-Fotogruppe „Experimentelle Fotografie“. Da er nach über vierzig Jahren Berufsleben niemanden mehr um Urlaub bitten muss\, hat er genügend Zeit für diese schöne Beschäftigung. Dabei anderen Menschen mit dem gemachten Wissen und den Erfahrungen beim Einstieg in dieses Hobby zu unterstützen\, ist nochmal ein i-Tüpfelchen obendrauf.
URL:https://kulturraum.bv-horn-lehe.de/event/knipsen-oder-gestalten-vierteiliger-fotokurs-im-mai-juni/
LOCATION:Altes Ortsamt\, Berckstraße 10\, Bremen\, Bremen\, 28359\, Deutschland
ATTACH;FMTTYPE=image/jpeg:https://kulturraum.bv-horn-lehe.de/wp-content/uploads/2025/07/Foto-Mio-Roestel.jpeg
ORGANIZER;CN="Kulturraum Horn-Lehe":MAILTO:kulturraum@bv-horn-lehe.de
END:VEVENT
END:VCALENDAR