BEGIN:VCALENDAR
VERSION:2.0
PRODID:-//Kulturraum Bürgerverein Horn-Lehe - ECPv6.15.17.1//NONSGML v1.0//EN
CALSCALE:GREGORIAN
METHOD:PUBLISH
X-WR-CALNAME:Kulturraum Bürgerverein Horn-Lehe
X-ORIGINAL-URL:https://kulturraum.bv-horn-lehe.de
X-WR-CALDESC:Veranstaltungen für Kulturraum Bürgerverein Horn-Lehe
REFRESH-INTERVAL;VALUE=DURATION:PT1H
X-Robots-Tag:noindex
X-PUBLISHED-TTL:PT1H
BEGIN:VTIMEZONE
TZID:Europe/Berlin
BEGIN:DAYLIGHT
TZOFFSETFROM:+0100
TZOFFSETTO:+0200
TZNAME:CEST
DTSTART:20250330T010000
END:DAYLIGHT
BEGIN:STANDARD
TZOFFSETFROM:+0200
TZOFFSETTO:+0100
TZNAME:CET
DTSTART:20251026T010000
END:STANDARD
BEGIN:DAYLIGHT
TZOFFSETFROM:+0100
TZOFFSETTO:+0200
TZNAME:CEST
DTSTART:20260329T010000
END:DAYLIGHT
BEGIN:STANDARD
TZOFFSETFROM:+0200
TZOFFSETTO:+0100
TZNAME:CET
DTSTART:20261025T010000
END:STANDARD
BEGIN:DAYLIGHT
TZOFFSETFROM:+0100
TZOFFSETTO:+0200
TZNAME:CEST
DTSTART:20270328T010000
END:DAYLIGHT
BEGIN:STANDARD
TZOFFSETFROM:+0200
TZOFFSETTO:+0100
TZNAME:CET
DTSTART:20271031T010000
END:STANDARD
END:VTIMEZONE
BEGIN:VEVENT
DTSTART;TZID=Europe/Berlin:20260529T193000
DTEND;TZID=Europe/Berlin:20260529T213000
DTSTAMP:20260424T063604
CREATED:20251209T073242Z
LAST-MODIFIED:20260407T123651Z
UID:2406-1780083000-1780090200@kulturraum.bv-horn-lehe.de
SUMMARY:Früher war das Leben leichter – Lesung mit Autorin Martina Burandt
DESCRIPTION:„Früher war das Leben leichter – Lyrik und Prosa“  \nAm 29. Mai liest Martina Burandt aus ihrem aktuellen Buch „Früher war das Leben leichter“ – lyrische Texte über den „Tanz des Lebens“. Begleitet wird die Lesung vom Gitarristen Dietrich Wüsteney. Um 19:30 Uhr beginnt die Veranstaltung in der Diele des Horner Ortsamts\, organisiert vom Arbeitskreis Kulturraum des Bürgervereins Horn-Lehe e.V. \n„Je mehr Erfahrungen wir im Laufe unseres Lebens sammeln\, umso mehr erkennen wir\, dass im Leben tatsächlich nicht alles einfach ist. Wie kommen wir nur auf diese Idee? Um den Stürmen des Lebens standzuhalten\, tun wir gut daran\, immer wieder dafür zu sorgen\, die kindliche Leichtigkeit nicht zu verlieren“\, sagt Martina Burandt.  \nDie in Bremen lebende Autorin schreibt über das Leben\, wie es sich jeden Tag neu zeigt. Dabei wählt sie für Ihre Lyrik – ganz frei von akademischen Zwängen oder Regeln – die Form\, die ihr für einen Gedanken am besten passt. Thematisch reicht die Lyriksammlung ihres neuen Gedichtbandes von inneren Reisen und Kunstbetrachtungen über Alltagserlebnisse bis hin zu philosophischen Gedanken oder gesellschaftspolitischen Beobachtungen. So dreht sich am Ende einfach alles um den „Tanz des Lebens“.  \nMusikalisch begleitet wird die Lesung von Dietrich Wüsteney (Foggy Tuesday\, BHV). Mit seiner Gitarre erschafft er in den Pausen zwischen den Texten immer wieder Raum zum Nachsinnen – sei es mit klassischen Tönen\, Flamencoklängen oder auch mal mit einem keltischen Stück. \nMartina Burandt\, am linken Niederrhein geboren\, war nach dem Studium/MA in Göttingen acht Jahre lang bei dem Kinder- und Jugend-Tourneetheater „Max und Moritz-Bühne“ tätig – in den Bereichen Stückentwicklung\, Schauspiel\, Regie\, Dramaturgie und Organisation. 1989 zog sie für ein Redaktionsvolontariat nach Bremen und arbeitet seitdem als Journalistin zu den Themen Kultur\, Sozialpolitik\, Porträt. Anfang der 2000er Jahre begann sie mit dem literarischen Schreiben und wurde zur Mitbegründerin der Schreibgruppe „Wortpilotinnen“. Seit 2004 veröffentlicht sie Lyrik und Prosa\, oft mit eigenen Zeichnungen\, die auch seit 2015 auf Ausstellungen zu sehen sind.  \nMartina Burandt ist Mitglied im Verband deutscher Schriftsteller*innen; seit 2018 im VS-Vorstand Niedersachsen/HB\, worüber sie auch die VS-Regionalgruppe Bremen leitet. Seit 2016 ist sie für den VS und den Bremer Frauenausschuss Mitglied im Rundfunkrat von Radio Bremen; seit 2020 im Bremer Presseclub und in Stadtkultur e.V. Außerdem hat sie eine Ausbildung zur Yogalehrerin (ZPP) und gibt seit 2008\, neben dem Schreiben\, zertifizierte Yogakurse. Die Autorin ist verheiratet und hat zwei Töchter.
URL:https://kulturraum.bv-horn-lehe.de/event/lesung-mit-autorin-martina-burandt/
LOCATION:Diele des Ortsamts\, Leher Heerstraße 105\, Bremen\, Bremen\, 28357
ATTACH;FMTTYPE=image/jpeg:https://kulturraum.bv-horn-lehe.de/wp-content/uploads/2025/12/Foto-Martina-Burandt_Foto-Meike-Rohde-scaled.jpg
ORGANIZER;CN="Kulturraum Horn-Lehe":MAILTO:kulturraum@bv-horn-lehe.de
END:VEVENT
END:VCALENDAR