BEGIN:VCALENDAR
VERSION:2.0
PRODID:-//Kulturraum Bürgerverein Horn-Lehe - ECPv6.15.17.1//NONSGML v1.0//EN
CALSCALE:GREGORIAN
METHOD:PUBLISH
X-WR-CALNAME:Kulturraum Bürgerverein Horn-Lehe
X-ORIGINAL-URL:https://kulturraum.bv-horn-lehe.de
X-WR-CALDESC:Veranstaltungen für Kulturraum Bürgerverein Horn-Lehe
REFRESH-INTERVAL;VALUE=DURATION:PT1H
X-Robots-Tag:noindex
X-PUBLISHED-TTL:PT1H
BEGIN:VTIMEZONE
TZID:Europe/Berlin
BEGIN:DAYLIGHT
TZOFFSETFROM:+0100
TZOFFSETTO:+0200
TZNAME:CEST
DTSTART:20250330T010000
END:DAYLIGHT
BEGIN:STANDARD
TZOFFSETFROM:+0200
TZOFFSETTO:+0100
TZNAME:CET
DTSTART:20251026T010000
END:STANDARD
BEGIN:DAYLIGHT
TZOFFSETFROM:+0100
TZOFFSETTO:+0200
TZNAME:CEST
DTSTART:20260329T010000
END:DAYLIGHT
BEGIN:STANDARD
TZOFFSETFROM:+0200
TZOFFSETTO:+0100
TZNAME:CET
DTSTART:20261025T010000
END:STANDARD
BEGIN:DAYLIGHT
TZOFFSETFROM:+0100
TZOFFSETTO:+0200
TZNAME:CEST
DTSTART:20270328T010000
END:DAYLIGHT
BEGIN:STANDARD
TZOFFSETFROM:+0200
TZOFFSETTO:+0100
TZNAME:CET
DTSTART:20271031T010000
END:STANDARD
END:VTIMEZONE
BEGIN:VEVENT
DTSTART;TZID=Europe/Berlin:20260919T160000
DTEND;TZID=Europe/Berlin:20260920T170000
DTSTAMP:20260424T180255
CREATED:20260407T133559Z
LAST-MODIFIED:20260407T133926Z
UID:2443-1789833600-1789923600@kulturraum.bv-horn-lehe.de
SUMMARY:Puppentheater mit Geschichten von Zwerg „Rotmütz“
DESCRIPTION:Puppentheater mit Geschichten von Zwerg „Rotmütz“ \nVeranstaltung nicht nur für Kinder \nMit dem zauberhaften Puppenspiel von Urthe Bischoff präsentiert der Arbeitskreis „Kulturraum Horn-Lehe“ des Bürgervereins erneut eine Veranstaltung für Kinder. Am Samstag und Sonntag\, dem 19.9. (11 Uhr) und 20. 9. (16 Uhr)\, erwecken die handgefertigten Figuren in einem kunstvoll gestalteten Rahmen die Geschichten vom Zwerg Rotmütz von Astrid Pomaska zum Leben. Christine Murasch liest dazu parallel die Geschichten in der Diele des Ortsamts vor. Geeignet sind sie für Kinder von ca. 4-7 Jahren.  \nDie Figuren fertigt Urthe Bischoff in ihrer „Zwergen Manufaktur“ selbst und lässt sie während ihres Puppenspiels lebendig werden\, während Christine Murasch die phantasievolle Geschichte begleitend vorliest. Auf diese Weise wird das Zwergen-Abenteuer für Kinder doppelt erlebbar.  \nMehrere Male präsentierte Urthe Bischoff bereits die Weihnachtsgeschichte „Tomte und der Fuchs“ von Astrid Lindgren im Kindergarten Luisenthal sowie auf dem Horner Weihnachtsmarkt. Auch den Waldorfbasar an der Touler Straße hat sie viele Jahre hauptverantwortlich organisiert. \nwww.zwergen-manufaktur.de
URL:https://kulturraum.bv-horn-lehe.de/event/puppentheater-mit-geschichten-von-zwerg-rotmuetz/
LOCATION:Diele des Ortsamts\, Leher Heerstraße 105\, Bremen\, Bremen\, 28357
ATTACH;FMTTYPE=image/jpeg:https://kulturraum.bv-horn-lehe.de/wp-content/uploads/2026/04/Foto_Puppenspiel-Urthe-Bischoff-28.9.25-scaled.jpg
ORGANIZER;CN="Kulturraum Horn-Lehe":MAILTO:kulturraum@bv-horn-lehe.de
END:VEVENT
END:VCALENDAR