BEGIN:VCALENDAR
VERSION:2.0
PRODID:-//Kulturraum Bürgerverein Horn-Lehe - ECPv6.15.17.1//NONSGML v1.0//EN
CALSCALE:GREGORIAN
METHOD:PUBLISH
X-ORIGINAL-URL:https://kulturraum.bv-horn-lehe.de
X-WR-CALDESC:Veranstaltungen für Kulturraum Bürgerverein Horn-Lehe
REFRESH-INTERVAL;VALUE=DURATION:PT1H
X-Robots-Tag:noindex
X-PUBLISHED-TTL:PT1H
BEGIN:VTIMEZONE
TZID:Europe/Berlin
BEGIN:DAYLIGHT
TZOFFSETFROM:+0100
TZOFFSETTO:+0200
TZNAME:CEST
DTSTART:20250330T010000
END:DAYLIGHT
BEGIN:STANDARD
TZOFFSETFROM:+0200
TZOFFSETTO:+0100
TZNAME:CET
DTSTART:20251026T010000
END:STANDARD
BEGIN:DAYLIGHT
TZOFFSETFROM:+0100
TZOFFSETTO:+0200
TZNAME:CEST
DTSTART:20260329T010000
END:DAYLIGHT
BEGIN:STANDARD
TZOFFSETFROM:+0200
TZOFFSETTO:+0100
TZNAME:CET
DTSTART:20261025T010000
END:STANDARD
BEGIN:DAYLIGHT
TZOFFSETFROM:+0100
TZOFFSETTO:+0200
TZNAME:CEST
DTSTART:20270328T010000
END:DAYLIGHT
BEGIN:STANDARD
TZOFFSETFROM:+0200
TZOFFSETTO:+0100
TZNAME:CET
DTSTART:20271031T010000
END:STANDARD
END:VTIMEZONE
BEGIN:VEVENT
DTSTART;TZID=Europe/Berlin:20261120T193000
DTEND;TZID=Europe/Berlin:20261120T213000
DTSTAMP:20260424T173805
CREATED:20251209T074011Z
LAST-MODIFIED:20260407T123521Z
UID:2417-1795203000-1795210200@kulturraum.bv-horn-lehe.de
SUMMARY:Lesung mit Autorin Sabine Schiffner
DESCRIPTION:„Bunkerbriefe“ – Eine besondere Brieffreundschaft im 2. Weltkrieg \n80 Briefe ihrer Großmutter hat die Lyrikerin Sabine Schiffner zu einem vielstimmigen Text verarbeitet und dabei die überraschende Geschichte von zwei sehr gegensätzlichen Frauenleben rekonstruiert. Der autofiktionale Roman vereint historische Zeitzeugnisse und die Impressionen der Autorin.
URL:https://kulturraum.bv-horn-lehe.de/event/lesung-mit-autorin-sabine-schiffner/
LOCATION:Diele des Ortsamts\, Leher Heerstraße 105\, Bremen\, Bremen\, 28357
ORGANIZER;CN="Kulturraum Horn-Lehe":MAILTO:kulturraum@bv-horn-lehe.de
END:VEVENT
END:VCALENDAR