BEGIN:VCALENDAR
VERSION:2.0
PRODID:-//Kulturraum Bürgerverein Horn-Lehe - ECPv6.15.17.1//NONSGML v1.0//EN
CALSCALE:GREGORIAN
METHOD:PUBLISH
X-WR-CALNAME:Kulturraum Bürgerverein Horn-Lehe
X-ORIGINAL-URL:https://kulturraum.bv-horn-lehe.de
X-WR-CALDESC:Veranstaltungen für Kulturraum Bürgerverein Horn-Lehe
REFRESH-INTERVAL;VALUE=DURATION:PT1H
X-Robots-Tag:noindex
X-PUBLISHED-TTL:PT1H
BEGIN:VTIMEZONE
TZID:Europe/Berlin
BEGIN:DAYLIGHT
TZOFFSETFROM:+0100
TZOFFSETTO:+0200
TZNAME:CEST
DTSTART:20250330T010000
END:DAYLIGHT
BEGIN:STANDARD
TZOFFSETFROM:+0200
TZOFFSETTO:+0100
TZNAME:CET
DTSTART:20251026T010000
END:STANDARD
BEGIN:DAYLIGHT
TZOFFSETFROM:+0100
TZOFFSETTO:+0200
TZNAME:CEST
DTSTART:20260329T010000
END:DAYLIGHT
BEGIN:STANDARD
TZOFFSETFROM:+0200
TZOFFSETTO:+0100
TZNAME:CET
DTSTART:20261025T010000
END:STANDARD
BEGIN:DAYLIGHT
TZOFFSETFROM:+0100
TZOFFSETTO:+0200
TZNAME:CEST
DTSTART:20270328T010000
END:DAYLIGHT
BEGIN:STANDARD
TZOFFSETFROM:+0200
TZOFFSETTO:+0100
TZNAME:CET
DTSTART:20271031T010000
END:STANDARD
END:VTIMEZONE
BEGIN:VEVENT
DTSTART;TZID=Europe/Berlin:20260830T100000
DTEND;TZID=Europe/Berlin:20260830T170000
DTSTAMP:20260424T101326
CREATED:20251209T073709Z
LAST-MODIFIED:20251209T073709Z
UID:2410-1788084000-1788109200@kulturraum.bv-horn-lehe.de
SUMMARY:„Horner Kulturfest“
DESCRIPTION:„Horner Kulturfest“ mit Live-Musik\, Infoständen\, Kinderprogramm\, Foodtrucks und großem Flohmarkt\, Parkplatz Horner Heerstraße 29 und Kita-Wiese Berckstraße 10
URL:https://kulturraum.bv-horn-lehe.de/event/horner-kulturfest/
LOCATION:Parkplatz vor EDEKA Maaß\, Horner Heerstaße\, Bremen
ORGANIZER;CN="Kulturraum Horn-Lehe":MAILTO:kulturraum@bv-horn-lehe.de
END:VEVENT
END:VCALENDAR