BEGIN:VCALENDAR
VERSION:2.0
PRODID:-//Kulturraum Bürgerverein Horn-Lehe - ECPv6.15.17.1//NONSGML v1.0//EN
CALSCALE:GREGORIAN
METHOD:PUBLISH
X-ORIGINAL-URL:https://kulturraum.bv-horn-lehe.de
X-WR-CALDESC:Veranstaltungen für Kulturraum Bürgerverein Horn-Lehe
REFRESH-INTERVAL;VALUE=DURATION:PT1H
X-Robots-Tag:noindex
X-PUBLISHED-TTL:PT1H
BEGIN:VTIMEZONE
TZID:Europe/Berlin
BEGIN:DAYLIGHT
TZOFFSETFROM:+0100
TZOFFSETTO:+0200
TZNAME:CEST
DTSTART:20250330T010000
END:DAYLIGHT
BEGIN:STANDARD
TZOFFSETFROM:+0200
TZOFFSETTO:+0100
TZNAME:CET
DTSTART:20251026T010000
END:STANDARD
BEGIN:DAYLIGHT
TZOFFSETFROM:+0100
TZOFFSETTO:+0200
TZNAME:CEST
DTSTART:20260329T010000
END:DAYLIGHT
BEGIN:STANDARD
TZOFFSETFROM:+0200
TZOFFSETTO:+0100
TZNAME:CET
DTSTART:20261025T010000
END:STANDARD
BEGIN:DAYLIGHT
TZOFFSETFROM:+0100
TZOFFSETTO:+0200
TZNAME:CEST
DTSTART:20270328T010000
END:DAYLIGHT
BEGIN:STANDARD
TZOFFSETFROM:+0200
TZOFFSETTO:+0100
TZNAME:CET
DTSTART:20271031T010000
END:STANDARD
END:VTIMEZONE
BEGIN:VEVENT
DTSTART;TZID=Europe/Berlin:20261211T193000
DTEND;TZID=Europe/Berlin:20261211T213000
DTSTAMP:20260424T174822
CREATED:20260330T070807Z
LAST-MODIFIED:20260407T123503Z
UID:2436-1797017400-1797024600@kulturraum.bv-horn-lehe.de
SUMMARY:Der buddhistische 88-Tempel-Weg in Japan – Dia-Vortrag mit Gerd Simper
DESCRIPTION:Der buddhistische 88-Tempel-Weg in Japan\n1150 km\, 37 Tage\, eine Pilgerwanderung in Japan\nDia-Vortrag mit Gerd Simper \nGerd Simper wohnt erst seit kurzem in Bremen. In den Volkshochschulen von Stuttgart und Umgebung hat er mehr als 150 Vorträge mit Bildern und Text gehalten. Mit dem Deutschen Entwicklungsdienst war er gut zwei Jahre in Papua-Neuguinea\, dann knapp drei Jahre im Jemen. Er hat als Ingenieur gearbeitet\, ist aber auch studierter Politologe. Mit seiner Frau Petra Brixel verfasste er einen Reiseführer zum Jemen\, der sieben Auflagen erreicht hat\, bevor der Bürgerkrieg Tourismus unmöglich machte. Außerdem veröffentlichte er ein Lehrbuch zum Vulkanismus\, das im Erscheinungsjahr (2005) im Magazin „bild der wissenschaft“ den 5. Platz als Wissenschaftsbuch des Jahres belegte.
URL:https://kulturraum.bv-horn-lehe.de/event/der-buddhistische-88-tempel-weg-in-japan-dia-vortrag-mit-gerd-simper/
LOCATION:Diele des Ortsamts\, Leher Heerstraße 105\, Bremen\, Bremen\, 28357
ORGANIZER;CN="Kulturraum Horn-Lehe":MAILTO:kulturraum@bv-horn-lehe.de
END:VEVENT
END:VCALENDAR