BEGIN:VCALENDAR
VERSION:2.0
PRODID:-//Kulturraum Bürgerverein Horn-Lehe - ECPv6.15.17.1//NONSGML v1.0//EN
CALSCALE:GREGORIAN
METHOD:PUBLISH
X-WR-CALNAME:Kulturraum Bürgerverein Horn-Lehe
X-ORIGINAL-URL:https://kulturraum.bv-horn-lehe.de
X-WR-CALDESC:Veranstaltungen für Kulturraum Bürgerverein Horn-Lehe
REFRESH-INTERVAL;VALUE=DURATION:PT1H
X-Robots-Tag:noindex
X-PUBLISHED-TTL:PT1H
BEGIN:VTIMEZONE
TZID:Europe/Berlin
BEGIN:DAYLIGHT
TZOFFSETFROM:+0100
TZOFFSETTO:+0200
TZNAME:CEST
DTSTART:20250330T010000
END:DAYLIGHT
BEGIN:STANDARD
TZOFFSETFROM:+0200
TZOFFSETTO:+0100
TZNAME:CET
DTSTART:20251026T010000
END:STANDARD
BEGIN:DAYLIGHT
TZOFFSETFROM:+0100
TZOFFSETTO:+0200
TZNAME:CEST
DTSTART:20260329T010000
END:DAYLIGHT
BEGIN:STANDARD
TZOFFSETFROM:+0200
TZOFFSETTO:+0100
TZNAME:CET
DTSTART:20261025T010000
END:STANDARD
BEGIN:DAYLIGHT
TZOFFSETFROM:+0100
TZOFFSETTO:+0200
TZNAME:CEST
DTSTART:20270328T010000
END:DAYLIGHT
BEGIN:STANDARD
TZOFFSETFROM:+0200
TZOFFSETTO:+0100
TZNAME:CET
DTSTART:20271031T010000
END:STANDARD
END:VTIMEZONE
BEGIN:VEVENT
DTSTART;TZID=Europe/Berlin:20260424T193000
DTEND;TZID=Europe/Berlin:20260424T213000
DTSTAMP:20260424T013103
CREATED:20251209T073151Z
LAST-MODIFIED:20260407T123738Z
UID:2404-1777059000-1777066200@kulturraum.bv-horn-lehe.de
SUMMARY:„Mit Witz\, Humor und guter Laune“ – Literarisches Programm von Schauspieler Markus Maria Winkler
DESCRIPTION:„Mit Witz\, Humor und guter Laune“\nGastspiel des Münchner Schauspielers Markus Maria Winkler – Witzige Balladen und lustige Gedichte\, Gastspiel des Münchner Schauspielers. Freuen Sie sich auf feinsinnigen Humor\, Komik und Satire.  \nEin sehr vergnüglicher Abend erwartet die Gäste am 24. April im Horner Ortsamt. Ab 19:30 Uhr präsentiert der Schauspieler\, Musiker und Tänzer Markus Maria Winkler in seinem Gastspiel witzige Gedichte und Balladen berühmter Dichter und Dichterinnen. Die Veranstaltung wird vom Arbeitskreis Kulturraum Horn-Lehe des Bürgervereins organisiert.  \nIn seinem humorvollen Programm „Mit Witz\, Humor und guter Laune“\, präsentiert der Theaterschauspieler Markus Maria Winkler witzige Balladen und lustige Gedichte von Joachim Ringelnatz\, Christian Morgenstern\, Wilhelm Busch\, Annette von Droste-Hülshoff\, Manfred Kyber\, Heinrich Heine\, Theodor Fontane\, Marie von Ebner-Eschenbach\, Hoffmann von Fallersleben\, Eduard Mörike\, Fred Endrikat\, Friedrich von Schiller und Johann Wolfgang von Goethe. Gewürzt wird sein amüsantes Programm mit heiteren Anekdoten über die Literaten. Freuen Sie sich auf Humor\, Komik und Satire. Prädikat: feinsinnig und humorvoll! \nDer Künstler\, der aus Wilhelmshaven stammt\, spielte beim Südbayerischen Theaterfestival\, beim Tourneetheater „Das Ensemble Jacob-Schwiers“ und am Festspielhaus in München. Mit seinen eigenen literarischen und musikalischen Programmen gastiert er in Deutschland\, Österreich und der Schweiz. 2026 feiert er sein 29jähriges Bühnenjubiläum. \nSeine Gesangsprogramme aus den Bereichen Musical\, Jazz und Chanson ergänzen sein Repertoire. Als Schauspieler und Geschichtenerzähler ist er mit seinen Bühnenprogrammen im ganzen deutschsprachigen Raum auf Gastspielreisen.
URL:https://kulturraum.bv-horn-lehe.de/event/literarisches-programm-von-schauspieler-markus-maria-winkler/
LOCATION:Diele des Ortsamts\, Leher Heerstraße 105\, Bremen\, Bremen\, 28357
ATTACH;FMTTYPE=image/jpeg:https://kulturraum.bv-horn-lehe.de/wp-content/uploads/2025/12/Winkler_Portrait.jpg
ORGANIZER;CN="Kulturraum Horn-Lehe":MAILTO:kulturraum@bv-horn-lehe.de
END:VEVENT
END:VCALENDAR